BEGIN:VCALENDAR
VERSION:2.0
PRODID:-//wp-events-plugin.com//7.2.3.1//EN
TZID:America/Sao_Paulo
X-WR-TIMEZONE:America/Sao_Paulo
BEGIN:VEVENT
UID:99@alquicon.com.br
DTSTART:20190316T120000Z
DTEND:20190317T210000Z
DTSTAMP:20181011T145951Z
URL:https://alquicon.com.br/cursos/alq1-poa-mar19/
SUMMARY:Curso Alquimia da Consciência 1
DESCRIPTION:[su_button url="http://alquicon.com.br/project/alquimia-da-cons
 ciencia-1/" target="blank" background="#b6b6b6" color="#ffffff" size="12" 
 center="yes" radius="0"]Programa do Curso[/su_button]\n:: INVESTIMENTO ::\
 n\n\n\nR$ 700\,00\n\nPagamento à vista por depósito ou Transferência\n\
 n[su_button url="http://alquicon.com.br/loja/inscricao-alquimia-1-pgto-vis
 ta/" target="blank" background="#ff7d2b" color="#ffffff" size="4" center="
 yes" radius="0"]Inscreva-se aqui para pagamento à vista com desconto[/su_
 button]\n\n\n\nR$ 800\,00\nPagamento parcelado 3x no cartão ou 4x no Cheq
 ue\n\n[su_button url="http://alquicon.com.br/loja/inscricao-para-o-curso-a
 lquimia-da-consciencia-1-pgto-parcelado/" target="blank" background="#ff7d
 2b" color="#ffffff" size="4" center="yes" radius="0"]Inscreva-se aqui para
  pagamento parcelado via Pagseguro/Paypal/Cheque[/su_button]\n\n\n\n(Inves
 timento inclui Apostila\, Certificado e Óraculo para o curso).
ATTACH;FMTTYPE=image/jpeg:https://alquicon.com.br/wp-content/uploads/2014/
 08/banner-alquimia1.jpg
LOCATION:Porto Alegre/RS - Blue Tree Towers Millenium\, Av. Borges de Medei
 ros\, 3120\, Porto Alegre\, RS\, 90110-150\, Praia de Belas - Fone (51) 30
 26-2200\, Brasil
GEO:-30.031845;-51.22589
X-APPLE-STRUCTURED-LOCATION;VALUE=URI;X-ADDRESS=Av. Borges de Medeiros\, 31
 20\, Porto Alegre\, RS\, 90110-150\, Praia de Belas - Fone (51) 3026-2200\
 , Brasil;X-APPLE-RADIUS=100;X-TITLE=Porto Alegre/RS - Blue Tree Towers Mil
 lenium:geo:-30.031845,-51.22589
END:VEVENT
END:VCALENDAR