BEGIN:VCALENDAR
VERSION:2.0
PRODID:-//wp-events-plugin.com//7.2.3.1//EN
TZID:America/Sao_Paulo
X-WR-TIMEZONE:America/Sao_Paulo
BEGIN:VEVENT
UID:131@alquicon.com.br
DTSTART:20200606T120000Z
DTEND:20200607T210000Z
DTSTAMP:20200521T040745Z
URL:https://alquicon.com.br/cursos/alq3-ctba-junho/
SUMMARY:Curso Alquimia da Consciência 3
DESCRIPTION:[su_button url="http://alquicon.com.br/project/alquimia-da-cons
 ciencia-2/" target="blank" background="#b6b6b6" color="#ffffff" size="12" 
 center="yes" radius="0"]Programa do Curso[/su_button]\n:: INVESTIMENTO ::\
 n\n\n\nR$ 1100\,00\n\nPagamento à vista por depósito ou Transferência\n
 \n[su_button url="http://alquicon.com.br/loja/inscricao-alquimia-3-pgto-vi
 sta/" target="blank" background="#ff7d2b" color="#ffffff" size="4" center=
 "yes" radius="0"]Inscreva-se aqui para pagamento à vista com desconto[/su
 _button]\n\n\n\nR$ 1300\,00\nPagamento parcelado 3x no cartão ou 5x no Ch
 eque\n\n[su_button url="http://alquicon.com.br/loja/inscricao-alquimia-3-p
 gto-parcelado/" target="blank" background="#ff7d2b" color="#ffffff" size="
 4" center="yes" radius="0"]Inscreva-se aqui para pagamento parcelado via P
 agseguro/Paypal/Cheque[/su_button]\n\n\n\n(Investimento inclui Apostila\, 
 Certificado e Óraculo para o curso).
ATTACH;FMTTYPE=image/jpeg:https://alquicon.com.br/wp-content/uploads/2015/
 04/alquimia3-flyer.jpg
LOCATION:Curitiba/PR - Alta Reggia - Hotel\, Restaurante e Eventos -\, Rua 
 Dr. Faivre\, 846\, Curitiba\, PR\, Centro - Fone (41) 3026-3223\, Brasil
GEO:-25.430602;-49.26062
X-APPLE-STRUCTURED-LOCATION;VALUE=URI;X-ADDRESS=Rua Dr. Faivre\, 846\, Curi
 tiba\, PR\, Centro - Fone (41) 3026-3223\, Brasil;X-APPLE-RADIUS=100;X-TIT
 LE=Curitiba/PR - Alta Reggia - Hotel\, Restaurante e Eventos -:geo:-25.430
 602,-49.26062
END:VEVENT
END:VCALENDAR